BEGIN:VCALENDAR
VERSION:2.0
PRODID:-//Suffolk County Women&#039;s Business Enterprise Coalition - ECPv6.15.17//NONSGML v1.0//EN
CALSCALE:GREGORIAN
METHOD:PUBLISH
X-WR-CALNAME:Suffolk County Women&#039;s Business Enterprise Coalition
X-ORIGINAL-URL:https://scwbec.org
X-WR-CALDESC:Events for Suffolk County Women&#039;s Business Enterprise Coalition
REFRESH-INTERVAL;VALUE=DURATION:PT1H
X-Robots-Tag:noindex
X-PUBLISHED-TTL:PT1H
BEGIN:VTIMEZONE
TZID:America/New_York
BEGIN:DAYLIGHT
TZOFFSETFROM:-0500
TZOFFSETTO:-0400
TZNAME:EDT
DTSTART:20250309T070000
END:DAYLIGHT
BEGIN:STANDARD
TZOFFSETFROM:-0400
TZOFFSETTO:-0500
TZNAME:EST
DTSTART:20251102T060000
END:STANDARD
BEGIN:DAYLIGHT
TZOFFSETFROM:-0500
TZOFFSETTO:-0400
TZNAME:EDT
DTSTART:20260308T070000
END:DAYLIGHT
BEGIN:STANDARD
TZOFFSETFROM:-0400
TZOFFSETTO:-0500
TZNAME:EST
DTSTART:20261101T060000
END:STANDARD
BEGIN:DAYLIGHT
TZOFFSETFROM:-0500
TZOFFSETTO:-0400
TZNAME:EDT
DTSTART:20270314T070000
END:DAYLIGHT
BEGIN:STANDARD
TZOFFSETFROM:-0400
TZOFFSETTO:-0500
TZNAME:EST
DTSTART:20271107T060000
END:STANDARD
END:VTIMEZONE
BEGIN:VEVENT
DTSTART;TZID=America/New_York:20260218T170000
DTEND;TZID=America/New_York:20260218T190000
DTSTAMP:20260423T115810
CREATED:20260105T231430Z
LAST-MODIFIED:20260217T192103Z
UID:8956-1771434000-1771441200@scwbec.org
SUMMARY:SCWBEC's February Mix & Mingle
DESCRIPTION:[vc_row css=”.vc_custom_1738944605462{background-color: #ffffff !important;}”][vc_column width=”2/3″][vc_single_image image=”8957″ img_size=”full”][vc_single_image image=”8959″ img_size=”full”][vc_btn title=”CLICK TO BECOME AN EVENT SPONSOR” style=”outline-custom” outline_custom_color=”#db1168″ outline_custom_hover_background=”#db1168″ outline_custom_hover_text=”#ffffff” align=”center” link=”url:https%3A%2F%2Fscwbec.org%2Fevent-sponsor%2F”][/vc_column][vc_column width=”1/3″][vc_zigzag color=”custom” custom_color=”#c42829″][vc_btn title=”Purchase Tickets” style=”outline-custom” outline_custom_color=”#c42829″ outline_custom_hover_background=”#c42829″ outline_custom_hover_text=”#ffffff” align=”center” link=”url:https%3A%2F%2Fscwbec.org%2Fevent-payment%2F%3FODk1Ng%3D%3D%2FSCWBEC%25E2%2580%2599s%2520February%2520Mix%2520%26%2520Mingle” css=”.vc_custom_1767654904492{padding-top: 15px !important;}”][vc_zigzag color=”custom” custom_color=”#c42829″ css=”.vc_custom_1738944915303{padding-top: 15px !important;}”][vc_single_image image=”2738″ img_size=”full” alignment=”center”][vc_single_image image=”9026″ alignment=”center”][/vc_column][/vc_row]
URL:https://scwbec.org/event/scwbecs-february-mix-mingle/
LOCATION:Twisted Cow Distillery\, 13 Hewitt Square\, East Northport
CATEGORIES:Social
ATTACH;FMTTYPE=image/png:https://scwbec.org/wp-content/uploads/2026/01/geb-MM-thumb.png
ORGANIZER;CN="SCWBEC":MAILTO:info@scwbec.org
END:VEVENT
END:VCALENDAR