BEGIN:VCALENDAR
VERSION:2.0
PRODID:-//Suffolk County Women&#039;s Business Enterprise Coalition - ECPv6.15.17//NONSGML v1.0//EN
CALSCALE:GREGORIAN
METHOD:PUBLISH
X-WR-CALNAME:Suffolk County Women&#039;s Business Enterprise Coalition
X-ORIGINAL-URL:https://scwbec.org
X-WR-CALDESC:Events for Suffolk County Women&#039;s Business Enterprise Coalition
REFRESH-INTERVAL;VALUE=DURATION:PT1H
X-Robots-Tag:noindex
X-PUBLISHED-TTL:PT1H
BEGIN:VTIMEZONE
TZID:America/New_York
BEGIN:DAYLIGHT
TZOFFSETFROM:-0500
TZOFFSETTO:-0400
TZNAME:EDT
DTSTART:20240310T070000
END:DAYLIGHT
BEGIN:STANDARD
TZOFFSETFROM:-0400
TZOFFSETTO:-0500
TZNAME:EST
DTSTART:20241103T060000
END:STANDARD
BEGIN:DAYLIGHT
TZOFFSETFROM:-0500
TZOFFSETTO:-0400
TZNAME:EDT
DTSTART:20250309T070000
END:DAYLIGHT
BEGIN:STANDARD
TZOFFSETFROM:-0400
TZOFFSETTO:-0500
TZNAME:EST
DTSTART:20251102T060000
END:STANDARD
BEGIN:DAYLIGHT
TZOFFSETFROM:-0500
TZOFFSETTO:-0400
TZNAME:EDT
DTSTART:20260308T070000
END:DAYLIGHT
BEGIN:STANDARD
TZOFFSETFROM:-0400
TZOFFSETTO:-0500
TZNAME:EST
DTSTART:20261101T060000
END:STANDARD
END:VTIMEZONE
BEGIN:VEVENT
DTSTART;TZID=America/New_York:20250109T080000
DTEND;TZID=America/New_York:20250109T100000
DTSTAMP:20260423T052549
CREATED:20241021T201827Z
LAST-MODIFIED:20241021T204732Z
UID:8443-1736409600-1736416800@scwbec.org
SUMMARY:January 2025 Meeting
DESCRIPTION:[vc_row css=”.vc_custom_1729543609515{background-color: #ffffff !important;}”][vc_column width=”1/4″][vc_single_image image=”5939″ img_size=”full”][/vc_column][vc_column width=”3/4″][vc_column_text]Presentation:  Jump start your 2025 Business immediately followed by Workshop: Create a Business Vision Board for 2025\n \nTerry Morris from T. Seleda Consulting\, a Business Coach/Entrepreneur with over 20 years of experience helping individuals build and grow their businesses will lead the presentation and workshop. \nJoin us as Terry guides you through a dynamic workshop on creating a Business Vision Board. \nA vision board is a great way to explore\, manifest\, and stay focused on your professional goals\, dreams\, and aspirations. For many entrepreneurs\, business vision boards are more effective than written business plans as they visually and vividly keep your unique big picture top of mind. Carefully crafted visualized goals are more tangible and achievable. \nBut where do you start? In this workshop\, Terry will provide step-by-step instructions for creating and making the most of your business vision board to help you achieve business growth and success in 2025.[/vc_column_text][/vc_column][/vc_row]
URL:https://scwbec.org/event/january-2025-meeting/
LOCATION:H. Lee Dennison Building\, 100 Veterans' Memorial Highway\, Hauppauge\, NY\, 11788\, United States
CATEGORIES:Monthly Meeting
ATTACH;FMTTYPE=image/jpeg:https://scwbec.org/wp-content/uploads/2015/09/SCWBEC2013Logo-Hi1-e1444945252434.jpg
ORGANIZER;CN="SCWBEC":MAILTO:info@scwbec.org
END:VEVENT
END:VCALENDAR