BEGIN:VCALENDAR
VERSION:2.0
PRODID:-//Suffolk County Women&#039;s Business Enterprise Coalition - ECPv6.15.17//NONSGML v1.0//EN
CALSCALE:GREGORIAN
METHOD:PUBLISH
X-WR-CALNAME:Suffolk County Women&#039;s Business Enterprise Coalition
X-ORIGINAL-URL:https://scwbec.org
X-WR-CALDESC:Events for Suffolk County Women&#039;s Business Enterprise Coalition
REFRESH-INTERVAL;VALUE=DURATION:PT1H
X-Robots-Tag:noindex
X-PUBLISHED-TTL:PT1H
BEGIN:VTIMEZONE
TZID:America/New_York
BEGIN:DAYLIGHT
TZOFFSETFROM:-0500
TZOFFSETTO:-0400
TZNAME:EDT
DTSTART:20230312T070000
END:DAYLIGHT
BEGIN:STANDARD
TZOFFSETFROM:-0400
TZOFFSETTO:-0500
TZNAME:EST
DTSTART:20231105T060000
END:STANDARD
BEGIN:DAYLIGHT
TZOFFSETFROM:-0500
TZOFFSETTO:-0400
TZNAME:EDT
DTSTART:20240310T070000
END:DAYLIGHT
BEGIN:STANDARD
TZOFFSETFROM:-0400
TZOFFSETTO:-0500
TZNAME:EST
DTSTART:20241103T060000
END:STANDARD
BEGIN:DAYLIGHT
TZOFFSETFROM:-0500
TZOFFSETTO:-0400
TZNAME:EDT
DTSTART:20250309T070000
END:DAYLIGHT
BEGIN:STANDARD
TZOFFSETFROM:-0400
TZOFFSETTO:-0500
TZNAME:EST
DTSTART:20251102T060000
END:STANDARD
END:VTIMEZONE
BEGIN:VEVENT
DTSTART;TZID=America/New_York:20240613T080000
DTEND;TZID=America/New_York:20240613T100000
DTSTAMP:20260423T145349
CREATED:20240206T151616Z
LAST-MODIFIED:20240403T155427Z
UID:8016-1718265600-1718272800@scwbec.org
SUMMARY:June 2024 Meeting
DESCRIPTION:Presentation: Podcasting 101 for Small Businesses by Sal DiVincenzo\, Coordinator of Digital Services at Middle Country Public Library.
URL:https://scwbec.org/event/june-2024-meeting/
LOCATION:H. Lee Dennison Building\, 100 Veterans' Memorial Highway\, Hauppauge\, NY\, 11788\, United States
CATEGORIES:Monthly Meeting
ATTACH;FMTTYPE=image/jpeg:https://scwbec.org/wp-content/uploads/2015/09/SCWBEC2013Logo-Hi1-e1444945252434.jpg
ORGANIZER;CN="SCWBEC":MAILTO:info@scwbec.org
END:VEVENT
END:VCALENDAR