BEGIN:VCALENDAR
VERSION:2.0
PRODID:-//Suffolk County Women&#039;s Business Enterprise Coalition - ECPv6.15.17//NONSGML v1.0//EN
CALSCALE:GREGORIAN
METHOD:PUBLISH
X-WR-CALNAME:Suffolk County Women&#039;s Business Enterprise Coalition
X-ORIGINAL-URL:https://scwbec.org
X-WR-CALDESC:Events for Suffolk County Women&#039;s Business Enterprise Coalition
REFRESH-INTERVAL;VALUE=DURATION:PT1H
X-Robots-Tag:noindex
X-PUBLISHED-TTL:PT1H
BEGIN:VTIMEZONE
TZID:America/New_York
BEGIN:DAYLIGHT
TZOFFSETFROM:-0500
TZOFFSETTO:-0400
TZNAME:EDT
DTSTART:20230312T070000
END:DAYLIGHT
BEGIN:STANDARD
TZOFFSETFROM:-0400
TZOFFSETTO:-0500
TZNAME:EST
DTSTART:20231105T060000
END:STANDARD
BEGIN:DAYLIGHT
TZOFFSETFROM:-0500
TZOFFSETTO:-0400
TZNAME:EDT
DTSTART:20240310T070000
END:DAYLIGHT
BEGIN:STANDARD
TZOFFSETFROM:-0400
TZOFFSETTO:-0500
TZNAME:EST
DTSTART:20241103T060000
END:STANDARD
BEGIN:DAYLIGHT
TZOFFSETFROM:-0500
TZOFFSETTO:-0400
TZNAME:EDT
DTSTART:20250309T070000
END:DAYLIGHT
BEGIN:STANDARD
TZOFFSETFROM:-0400
TZOFFSETTO:-0500
TZNAME:EST
DTSTART:20251102T060000
END:STANDARD
END:VTIMEZONE
BEGIN:VEVENT
DTSTART;TZID=America/New_York:20240509T080000
DTEND;TZID=America/New_York:20240509T100000
DTSTAMP:20260423T161215
CREATED:20240206T151542Z
LAST-MODIFIED:20240322T141524Z
UID:8014-1715241600-1715248800@scwbec.org
SUMMARY:May 2024 Meeting
DESCRIPTION:[vc_row css=”.vc_custom_1711116835896{background-color: #ffffff !important;}”][vc_column width=”1/3″][vc_single_image image=”8120″ img_size=”full”][/vc_column][vc_column width=”2/3″][vc_column_text]Presentation by Paul L. Scrom Jr.\, Partner & Ashley R. Miskovsky\, an Associate at Halpern & Scrom Law PLLC. \nEmployment Law Pitfalls for Small Businesses \nLearn about navigating the intricate landscape of employment law for compliance driven small businesses.[/vc_column_text][/vc_column][/vc_row]
URL:https://scwbec.org/event/may-2024-meeting/
LOCATION:H. Lee Dennison Building\, 100 Veterans' Memorial Highway\, Hauppauge\, NY\, 11788\, United States
CATEGORIES:Monthly Meeting
ATTACH;FMTTYPE=image/jpeg:https://scwbec.org/wp-content/uploads/2015/09/SCWBEC2013Logo-Hi1-e1444945252434.jpg
ORGANIZER;CN="SCWBEC":MAILTO:info@scwbec.org
END:VEVENT
END:VCALENDAR