BEGIN:VCALENDAR
VERSION:2.0
PRODID:-//Suffolk County Women&#039;s Business Enterprise Coalition - ECPv6.15.17//NONSGML v1.0//EN
CALSCALE:GREGORIAN
METHOD:PUBLISH
X-WR-CALNAME:Suffolk County Women&#039;s Business Enterprise Coalition
X-ORIGINAL-URL:https://scwbec.org
X-WR-CALDESC:Events for Suffolk County Women&#039;s Business Enterprise Coalition
REFRESH-INTERVAL;VALUE=DURATION:PT1H
X-Robots-Tag:noindex
X-PUBLISHED-TTL:PT1H
BEGIN:VTIMEZONE
TZID:America/New_York
BEGIN:DAYLIGHT
TZOFFSETFROM:-0500
TZOFFSETTO:-0400
TZNAME:EDT
DTSTART:20230312T070000
END:DAYLIGHT
BEGIN:STANDARD
TZOFFSETFROM:-0400
TZOFFSETTO:-0500
TZNAME:EST
DTSTART:20231105T060000
END:STANDARD
BEGIN:DAYLIGHT
TZOFFSETFROM:-0500
TZOFFSETTO:-0400
TZNAME:EDT
DTSTART:20240310T070000
END:DAYLIGHT
BEGIN:STANDARD
TZOFFSETFROM:-0400
TZOFFSETTO:-0500
TZNAME:EST
DTSTART:20241103T060000
END:STANDARD
BEGIN:DAYLIGHT
TZOFFSETFROM:-0500
TZOFFSETTO:-0400
TZNAME:EDT
DTSTART:20250309T070000
END:DAYLIGHT
BEGIN:STANDARD
TZOFFSETFROM:-0400
TZOFFSETTO:-0500
TZNAME:EST
DTSTART:20251102T060000
END:STANDARD
END:VTIMEZONE
BEGIN:VEVENT
DTSTART;TZID=America/New_York:20240411T080000
DTEND;TZID=America/New_York:20240411T100000
DTSTAMP:20260423T172258
CREATED:20240206T151455Z
LAST-MODIFIED:20240311T162204Z
UID:8012-1712822400-1712829600@scwbec.org
SUMMARY:April 2024 Meeting
DESCRIPTION:[vc_row][vc_column width=”2/3″][vc_column_text]This month’s presenter\, Michael J. Mannix\, delivers a talk on The 5Ls – The Gift of a Balance Life\, which facilitates the continuous pursuit of achieving balance in 5 essential life elements.[/vc_column_text][/vc_column][vc_column width=”1/3″][/vc_column][/vc_row]
URL:https://scwbec.org/event/april-2024-meeting/
LOCATION:H. Lee Dennison Building\, 100 Veterans' Memorial Highway\, Hauppauge\, NY\, 11788\, United States
CATEGORIES:Monthly Meeting
ATTACH;FMTTYPE=image/jpeg:https://scwbec.org/wp-content/uploads/2015/09/SCWBEC2013Logo-Hi1-e1444945252434.jpg
ORGANIZER;CN="SCWBEC":MAILTO:info@scwbec.org
END:VEVENT
END:VCALENDAR