BEGIN:VCALENDAR
VERSION:2.0
PRODID:-//Suffolk County Women&#039;s Business Enterprise Coalition - ECPv6.15.17//NONSGML v1.0//EN
CALSCALE:GREGORIAN
METHOD:PUBLISH
X-WR-CALNAME:Suffolk County Women&#039;s Business Enterprise Coalition
X-ORIGINAL-URL:https://scwbec.org
X-WR-CALDESC:Events for Suffolk County Women&#039;s Business Enterprise Coalition
REFRESH-INTERVAL;VALUE=DURATION:PT1H
X-Robots-Tag:noindex
X-PUBLISHED-TTL:PT1H
BEGIN:VTIMEZONE
TZID:America/New_York
BEGIN:DAYLIGHT
TZOFFSETFROM:-0500
TZOFFSETTO:-0400
TZNAME:EDT
DTSTART:20230312T070000
END:DAYLIGHT
BEGIN:STANDARD
TZOFFSETFROM:-0400
TZOFFSETTO:-0500
TZNAME:EST
DTSTART:20231105T060000
END:STANDARD
BEGIN:DAYLIGHT
TZOFFSETFROM:-0500
TZOFFSETTO:-0400
TZNAME:EDT
DTSTART:20240310T070000
END:DAYLIGHT
BEGIN:STANDARD
TZOFFSETFROM:-0400
TZOFFSETTO:-0500
TZNAME:EST
DTSTART:20241103T060000
END:STANDARD
BEGIN:DAYLIGHT
TZOFFSETFROM:-0500
TZOFFSETTO:-0400
TZNAME:EDT
DTSTART:20250309T070000
END:DAYLIGHT
BEGIN:STANDARD
TZOFFSETFROM:-0400
TZOFFSETTO:-0500
TZNAME:EST
DTSTART:20251102T060000
END:STANDARD
END:VTIMEZONE
BEGIN:VEVENT
DTSTART;TZID=America/New_York:20240208T080000
DTEND;TZID=America/New_York:20240208T100000
DTSTAMP:20260423T171659
CREATED:20231027T163550Z
LAST-MODIFIED:20240124T233243Z
UID:7842-1707379200-1707386400@scwbec.org
SUMMARY:February 2024 Meeting
DESCRIPTION:[vc_row css=”.vc_custom_1706139162201{background-color: #ffffff !important;}”][vc_column][vc_single_image image=”8001″ img_size=”full” onclick=”custom_link” link=”https://scwbec.org/event-rsvp/?Nzg0Mg==/February%202024%20Meeting”][vc_single_image image=”8006″ img_size=”full” onclick=”custom_link” link=”https://scwbec.org/event/dreams-unveiled-sparking-business-brilliance-through-storytelling-and-video-magic/”][/vc_column][/vc_row]
URL:https://scwbec.org/event/february-2024-meeting/
LOCATION:H. Lee Dennison Building\, 100 Veterans' Memorial Highway\, Hauppauge\, NY\, 11788\, United States
CATEGORIES:Monthly Meeting
ATTACH;FMTTYPE=image/jpeg:https://scwbec.org/wp-content/uploads/2015/10/SCWBEC2013Logo-Hi-e1444945575325.jpg
ORGANIZER;CN="SCWBEC":MAILTO:info@scwbec.org
END:VEVENT
BEGIN:VEVENT
DTSTART;TZID=America/New_York:20240227T170000
DTEND;TZID=America/New_York:20240227T190000
DTSTAMP:20260423T171659
CREATED:20240111T174304Z
LAST-MODIFIED:20240124T165654Z
UID:7964-1709053200-1709060400@scwbec.org
SUMMARY:SCWBEC Mix and Mingle
DESCRIPTION:[vc_row css=”.vc_custom_1704994583953{background-color: #ffffff !important;}”][vc_column][vc_single_image image=”7965″ img_size=”full” onclick=”custom_link” link=”https://scwbec.org/event-rsvp/?Nzk2NA==/SCWBEC%20Mix%20and%20Mingle”][/vc_column][/vc_row]
URL:https://scwbec.org/event/scwbec-mix-mingle/
LOCATION:The Agency\, 61 West Main Street\, Bayshore\, NY\, 11706\, United States
CATEGORIES:Monthly Meeting
ATTACH;FMTTYPE=image/png:https://scwbec.org/wp-content/uploads/2019/03/MixandMingle.png
ORGANIZER;CN="SCWBEC":MAILTO:info@scwbec.org
END:VEVENT
END:VCALENDAR