BEGIN:VCALENDAR
VERSION:2.0
PRODID:-//Suffolk County Women&#039;s Business Enterprise Coalition - ECPv6.15.17//NONSGML v1.0//EN
CALSCALE:GREGORIAN
METHOD:PUBLISH
X-WR-CALNAME:Suffolk County Women&#039;s Business Enterprise Coalition
X-ORIGINAL-URL:https://scwbec.org
X-WR-CALDESC:Events for Suffolk County Women&#039;s Business Enterprise Coalition
REFRESH-INTERVAL;VALUE=DURATION:PT1H
X-Robots-Tag:noindex
X-PUBLISHED-TTL:PT1H
BEGIN:VTIMEZONE
TZID:America/New_York
BEGIN:DAYLIGHT
TZOFFSETFROM:-0500
TZOFFSETTO:-0400
TZNAME:EDT
DTSTART:20240310T070000
END:DAYLIGHT
BEGIN:STANDARD
TZOFFSETFROM:-0400
TZOFFSETTO:-0500
TZNAME:EST
DTSTART:20241103T060000
END:STANDARD
BEGIN:DAYLIGHT
TZOFFSETFROM:-0500
TZOFFSETTO:-0400
TZNAME:EDT
DTSTART:20250309T070000
END:DAYLIGHT
BEGIN:STANDARD
TZOFFSETFROM:-0400
TZOFFSETTO:-0500
TZNAME:EST
DTSTART:20251102T060000
END:STANDARD
BEGIN:DAYLIGHT
TZOFFSETFROM:-0500
TZOFFSETTO:-0400
TZNAME:EDT
DTSTART:20260308T070000
END:DAYLIGHT
BEGIN:STANDARD
TZOFFSETFROM:-0400
TZOFFSETTO:-0500
TZNAME:EST
DTSTART:20261101T060000
END:STANDARD
END:VTIMEZONE
BEGIN:VEVENT
DTSTART;TZID=America/New_York:20250408T173000
DTEND;TZID=America/New_York:20250408T200000
DTSTAMP:20260423T172034
CREATED:20250310T171054Z
LAST-MODIFIED:20250310T173003Z
UID:8621-1744133400-1744142400@scwbec.org
SUMMARY:Membership Drive 2025
DESCRIPTION:[vc_row css=”.vc_custom_1709247371903{background-color: #ffffff !important;}”][vc_column width=”3/4″][vc_single_image image=”8634″ img_size=”full”][vc_single_image image=”8628″ img_size=”full”][vc_row_inner][vc_column_inner css=”.vc_custom_1709249011301{padding-right: 10px !important;padding-left: 20px !important;}”][vc_column_text css=”.vc_custom_1741627318317{padding-right: 10px !important;padding-left: 20px !important;}”]Alyse Parise\, LCSW and Life Designer\, will guide you through this interactive and creative presentation. Your relationship with money is about more than numbers—it’s shaped by emotions\, experiences\, and deep-seated beliefs. In this interactive workshop\, we’ll explore how past money messages influence your financial confidence today and uncover ways to shift from scarcity to abundance. Walk away with greater awareness\, practical insights\, and a renewed sense of empowerment over your wealth and worth.[/vc_column_text][vc_column_text css=”.vc_custom_1741627802869{padding-right: 20px !important;padding-left: 10px !important;}”]Alyse Parise is a seasoned psychotherapist with a Master’s in Social Work using a range of modalities\, a certified Life & Business Coach\, and an Intentional Creativity Coach with an extensive career spanning more than three decades. \nHer expertise lies in guiding women on a transformative journey toward purposeful aging. She empowers women to embrace joy\, kindle creativity\, and triumph over life’s obstacles\, enabling them to resoundingly declare a ‘HELL YES’ to life’s possibilities. Alyse is known for blending her innate creativity\, empathy\, and intuition with practical know-how.[/vc_column_text][/vc_column_inner][/vc_row_inner][vc_single_image image=”8626″ img_size=”full”][/vc_column][vc_column width=”1/4″][vc_btn title=”PURCHASE TICKET” style=”outline-custom” outline_custom_color=”#ec146f” outline_custom_hover_background=”#ec146f” outline_custom_hover_text=”#ffffff” align=”center” button_block=”true” link=”url:https%3A%2F%2Fscwbec.org%2Fevent-payment%2F%3FODYyMQ%3D%3D%2FMembership%2520Drive%25202025″][/vc_column][/vc_row]
URL:https://scwbec.org/event/membership-drive-2025/
LOCATION:Napper Tandy’s Catering\, 15 East Main Street\, Smithtown\, NY\, 11787\, United States
CATEGORIES:Annual Event,Membership Event
ATTACH;FMTTYPE=image/png:https://scwbec.org/wp-content/uploads/2025/03/MD-thumb.png
ORGANIZER;CN="SCWBEC":MAILTO:info@scwbec.org
END:VEVENT
END:VCALENDAR